BEGIN:VCALENDAR
VERSION:2.0
PRODID:-//ChamberMaster//Event Calendar 2.0//EN
METHOD:PUBLISH
X-PUBLISHED-TTL:P3D
REFRESH-INTERVAL:P3D
CALSCALE:GREGORIAN
BEGIN:VEVENT
DTSTART:20210717T150000Z
DTEND:20210717T220000Z
X-MICROSOFT-CDO-ALLDAYEVENT:FALSE
SUMMARY:Seattle Childrens " Car Boot Sale
DESCRIPTION:The Car Boot Sale is the ultimate treasure-filled flea market\, benefiting Seattle Childrens Hospital Research Foundation. Sponsored by Dr. Samuel G. Brooks Guild of Anacortes.
X-ALT-DESC;FMTTYPE=text/html:The Car Boot Sale is the ultimate treasure-filled flea market\, benefiting Seattle Childrens Hospital Research Foundation. Sponsored by Dr. Samuel G. Brooks Guild of Anacortes.
LOCATION:Anacortes Lutheran Church parking lot 2100 O Avenue Anacortes\, WA
UID:e.228.21599
SEQUENCE:3
DTSTAMP:20260423T214052Z
URL:https://business.anacortes.org/events/details/seattle-childrens-car-boot-sale-21599
END:VEVENT

END:VCALENDAR
