BEGIN:VCALENDAR
VERSION:2.0
PRODID:-//ChamberMaster//Event Calendar 2.0//EN
METHOD:PUBLISH
X-PUBLISHED-TTL:P3D
REFRESH-INTERVAL:P3D
CALSCALE:GREGORIAN
BEGIN:VEVENT
DTSTART:20210114T193000Z
DTEND:20210114T210000Z
X-MICROSOFT-CDO-ALLDAYEVENT:FALSE
SUMMARY:Monthly Chamber Luncheon
DESCRIPTION:
X-ALT-DESC;FMTTYPE=text/html:<br />\n&nbsp\;
LOCATION:
UID:e.228.16929
SEQUENCE:3
DTSTAMP:20260420T115118Z
URL:https://business.anacortes.org/events/details/monthly-chamber-luncheon-01-14-2021-16929
END:VEVENT

END:VCALENDAR
