BEGIN:VCALENDAR
VERSION:2.0
PRODID:-//ChamberMaster//Event Calendar 2.0//EN
METHOD:PUBLISH
X-PUBLISHED-TTL:P3D
REFRESH-INTERVAL:P3D
CALSCALE:GREGORIAN
BEGIN:VEVENT
DTSTART:20260312T020000Z
DTEND:20260312T040000Z
X-MICROSOFT-CDO-ALLDAYEVENT:FALSE
SUMMARY:Friends of the ACFL Annual Meeting
DESCRIPTION:Join Friends of the ACFL to celebrate 2025\, and look forward to 2026. Guest speaker Robbie Andrus will present his findings on his recent ACFL Forest Monitoring Project. We will have snacks and refreshments.
X-ALT-DESC;FMTTYPE=text/html:Join Friends of the ACFL to celebrate 2025\, and look forward to 2026. Guest speaker Robbie Andrus will present his findings on his recent ACFL Forest Monitoring Project. We will have snacks and refreshments.
LOCATION:Anacortes Depot Arts Center 611 R Ave
UID:e.228.23438
SEQUENCE:3
DTSTAMP:20260421T095729Z
URL:https://business.anacortes.org/events/details/friends-of-the-acfl-annual-meeting-23438
END:VEVENT

END:VCALENDAR
