BEGIN:VCALENDAR
VERSION:2.0
PRODID:-//ChamberMaster//Event Calendar 2.0//EN
METHOD:PUBLISH
X-PUBLISHED-TTL:P3D
REFRESH-INTERVAL:P3D
CALSCALE:GREGORIAN
BEGIN:VEVENT
DTSTART:20241207T180000Z
DTEND:20241207T230000Z
X-MICROSOFT-CDO-ALLDAYEVENT:FALSE
SUMMARY:Creative Avenue Final Holiday Market
DESCRIPTION:Join us for our final Creative Avenue Holiday Market! After 3 years of hosting markets\, this will be the last one that Frannie hosts so she can put her full attention into the Creative Hub & Coffeehouse. Join us to celebrate artists and makers at this market - you'll find 30 local vendors with a wonderful assortment of goods that will make perfect gifts for the holidays. Located indoors at the Depot - 611 R Avenue\, Anacortes\, WA 98221 Market Hours: 10AM-3PM
X-ALT-DESC;FMTTYPE=text/html:Join us for our final Creative Avenue Holiday Market! After 3 years of hosting markets\, this will be the last one that Frannie hosts so she can put her full attention into the Creative Hub &amp\; Coffeehouse. Join us to celebrate artists and makers at this market - you&#39\;ll find 30 local vendors with a wonderful assortment of goods that will make perfect gifts for the holidays. Located indoors at the Depot - 611 R Avenue\, Anacortes\, WA 98221 Market Hours: 10AM-3PM
LOCATION:Depot Arts Building\, 611 R Avenue\, Anacortes\, WA 98221
UID:e.228.22801
SEQUENCE:3
DTSTAMP:20260424T023904Z
URL:https://business.anacortes.org/events/details/creative-avenue-final-holiday-market-22801
END:VEVENT

END:VCALENDAR
