BEGIN:VCALENDAR
VERSION:2.0
PRODID:-//ChamberMaster//Event Calendar 2.0//EN
METHOD:PUBLISH
X-PUBLISHED-TTL:P3D
REFRESH-INTERVAL:P3D
CALSCALE:GREGORIAN
BEGIN:VEVENT
DTSTART:20260830T180000Z
DTEND:20260830T220000Z
X-MICROSOFT-CDO-ALLDAYEVENT:FALSE
SUMMARY:Open Streets
DESCRIPTION:This popular annual event closes Commercial Ave to motorized traffic from 10th Street to 3rd Street. Portions of 7th\, 6th and 5th may be closed as well. This has varied over the years depending upon event participation. The closed streets allow for families to enjoy bicycle rides\, walks\, scooters\, skateboards\, etc.\, along "main street". Programming has and may include pet parades\, tabling\, buskers and folks that join the day on their own...
X-ALT-DESC;FMTTYPE=text/html:This popular annual event closes Commercial Ave to motorized traffic from 10th Street to 3rd Street. Portions of 7th\, 6th and 5th may be closed as well. This has varied over the years depending upon event participation. The closed streets allow for families to enjoy bicycle rides\, walks\, scooters\, skateboards\, etc.\, along &quot\;main street&quot\;. Programming has and may include pet parades\, tabling\, buskers and folks that join the day on their own...
LOCATION:Commercial Avenue will be closed from 10th Street continuing north to 3rd Street
UID:e.228.24516
SEQUENCE:3
DTSTAMP:20260422T170522Z
URL:http://business.anacortes.org/events/details/open-streets-24516
END:VEVENT

END:VCALENDAR
