BEGIN:VCALENDAR
VERSION:2.0
PRODID:-//ChamberMaster//Event Calendar 2.0//EN
METHOD:PUBLISH
X-PUBLISHED-TTL:P3D
REFRESH-INTERVAL:P3D
CALSCALE:GREGORIAN
BEGIN:VEVENT
DTSTART:20260509T230000Z
DTEND:20260510T000000Z
X-MICROSOFT-CDO-ALLDAYEVENT:FALSE
SUMMARY:MMIP Awareness Walk
DESCRIPTION:A one-hour walk on May 9th\, 2026. Sponsored by the Samish Indian Nation. This is an annual Missing and Murdered Indigenous People (MMIP) event to raise awareness and provide education on this sensitive and critically important issue. They held their first awareness walk in 2025 the first since COVID and we are excited to continue the event in 2026. This year's event will begin at Seafarers Memorial Park. After the main program\, we will walk together carrying our MMIP awareness posters and umbrellas
X-ALT-DESC;FMTTYPE=text/html:A one-hour walk on May 9th\, 2026. Sponsored by the Samish Indian Nation. This is an annual Missing and Murdered Indigenous People (MMIP) event to raise awareness and provide education on this sensitive and critically important issue. They held their first awareness walk in 2025&mdash\;the first since COVID&mdash\;and we are excited to continue the event in 2026. This year&rsquo\;s event will begin at Seafarers Memorial Park. After the main program\, we will walk together carrying our MMIP awareness posters and umbrellas
LOCATION:Seafarers Memorial Park - 601 Seafarers Way Anacortes\, WA 98221
UID:e.228.24519
SEQUENCE:3
DTSTAMP:20260425T205246Z
URL:http://business.anacortes.org/events/details/mmip-awareness-walk-24519
END:VEVENT

END:VCALENDAR
