BEGIN:VCALENDAR
VERSION:2.0
PRODID:-//ChamberMaster//Event Calendar 2.0//EN
METHOD:PUBLISH
X-PUBLISHED-TTL:P3D
REFRESH-INTERVAL:P3D
CALSCALE:GREGORIAN
BEGIN:VEVENT
DTSTART:20260606T140000Z
DTEND:20260607T020000Z
X-MICROSOFT-CDO-ALLDAYEVENT:FALSE
SUMMARY:Forge Backyard Ultra
DESCRIPTION:FORGE is a race built around a unique and growing format known as the "backyard ultra." Unlike traditional races where runners aim for a set distance or time\, backyard ultras follow a simple but demanding structure: runners complete a 4.167-mile loop every hour\, on the hour. Whatever time remains after finishing a lap becomes their rest period before starting again at the top of the next hour. This continues until the event reaches its predetermined duration in FORGE's case\, 12 hours. The format is gaining popularity worldwide because it removes the pressure of speed and replaces it with a test of endurance\, pacing\, and mental toughness. Fast runners and steady runners line up together every hour. Everyone starts at the same time\, and the race unfolds differently for each participant. Some will aim for a personal-best distance\, while others will push to complete all 12 laps. One of the most unique aspects of this style of racing is the community it creates. The time between laps when runners gather\, recover\, and prepare for the next start becomes a shared experience. Conversations happen. Encouragement is exchanged. Whether you're completing your first backyard-style event or chasing a new personal milestone\, you're not doing it alone. At its core\, FORGE is about stepping into a challenge and discovering what you're capable of. There's no finish line waiting for you at a set distance just another lap\, another opportunity to push forward. It's an event designed to be hard\, but also to be welcoming\, rewarding\, and deeply memorable.
X-ALT-DESC;FMTTYPE=text/html:FORGE is a race built around a unique and growing format known as the &quot\;backyard ultra.&quot\; Unlike traditional races where runners aim for a set distance or time\, backyard ultras follow a simple but demanding structure: runners complete a 4.167-mile loop every hour\, on the hour. Whatever time remains after finishing a lap becomes their rest period before starting again at the top of the next hour. This continues until the event reaches its predetermined duration&mdash\;in FORGE&rsquo\;s case\, 12 hours. The format is gaining popularity worldwide because it removes the pressure of speed and replaces it with a test of endurance\, pacing\, and mental toughness. Fast runners and steady runners line up together every hour. Everyone starts at the same time\, and the race unfolds differently for each participant. Some will aim for a personal-best distance\, while others will push to complete all 12 laps. One of the most unique aspects of this style of racing is the community it creates. The time between laps&mdash\;when runners gather\, recover\, and prepare for the next start&mdash\;becomes a shared experience. Conversations happen. Encouragement is exchanged. Whether you&rsquo\;re completing your first backyard-style event or chasing a new personal milestone\, you&rsquo\;re not doing it alone. At its core\, FORGE is about stepping into a challenge and discovering what you&rsquo\;re capable of. There&rsquo\;s no finish line waiting for you at a set distance&mdash\;just another lap\, another opportunity to push forward. It&rsquo\;s an event designed to be hard\, but also to be welcoming\, rewarding\, and deeply memorable.
LOCATION:Trails and dirt roads south of Swinomish Casino\, Skagit County\, WA
UID:e.228.24517
SEQUENCE:3
DTSTAMP:20260423T054751Z
URL:http://business.anacortes.org/events/details/forge-backyard-ultra-24517
END:VEVENT

END:VCALENDAR
