BEGIN:VCALENDAR
VERSION:2.0
PRODID:-//ChamberMaster//Event Calendar 2.0//EN
METHOD:PUBLISH
X-PUBLISHED-TTL:P3D
REFRESH-INTERVAL:P3D
CALSCALE:GREGORIAN
BEGIN:VEVENT
DTSTART;VALUE=DATE:20201002
DTEND;VALUE=DATE:20201004
TRANSP:TRANSPARENT
X-MICROSOFT-CDO-ALLDAYEVENT:TRUE
SUMMARY:Bier on the Pier
DESCRIPTION:11th Anniversary of Bier on the Pier at 100 Commercial Avenue. \n\n30 Breweries and 10 Cideries!
X-ALT-DESC;FMTTYPE=text/html:11th Anniversary of Bier on the Pier at 100 Commercial Avenue.&nbsp\;<br />\n30 Breweries and 10 Cideries!
LOCATION:
UID:e.228.21432
SEQUENCE:3
DTSTAMP:20260423T183219Z
URL:http://business.anacortes.org/events/details/bier-on-the-pier-21432
END:VEVENT

END:VCALENDAR
