BEGIN:VCALENDAR
VERSION:2.0
PRODID:-//ChamberMaster//Event Calendar 2.0//EN
METHOD:PUBLISH
X-PUBLISHED-TTL:P3D
REFRESH-INTERVAL:P3D
CALSCALE:GREGORIAN
BEGIN:VEVENT
DTSTART:20261212T170000Z
DTEND:20261212T180000Z
X-MICROSOFT-CDO-ALLDAYEVENT:FALSE
SUMMARY:Anacortes Santa Run
DESCRIPTION:WHAT IS A SANTA RUN????????????? Every runner receives a full Santa Suit for the run! Yes\, that's right. EVERYONE will run in a Santa Suit. Join other runners all dressed as Santa and run a 5k in beautiful Anacortes WA.
X-ALT-DESC;FMTTYPE=text/html:WHAT IS A SANTA RUN????????????? Every runner receives a full Santa Suit for the run! Yes\, that&#39\;s right. EVERYONE will run in a Santa Suit. Join other runners all dressed as Santa and run a 5k in beautiful Anacortes WA.
LOCATION:Seafarers Park
UID:e.228.24518
SEQUENCE:3
DTSTAMP:20260422T113707Z
URL:http://business.anacortes.org/events/details/anacortes-santa-run-24518
END:VEVENT

END:VCALENDAR
