BEGIN:VCALENDAR
VERSION:2.0
PRODID:-//ChamberMaster//Event Calendar 2.0//EN
METHOD:PUBLISH
X-PUBLISHED-TTL:P3D
REFRESH-INTERVAL:P3D
CALSCALE:GREGORIAN
BEGIN:VEVENT
DTSTART:20261120T013000Z
DTEND:20261120T030000Z
X-MICROSOFT-CDO-ALLDAYEVENT:FALSE
SUMMARY:2026 November Business After Hours @ Anacortes Printing & Signs
DESCRIPTION:Join us for the November Business After Hours on November 19th from 5:30 PM - 7:00 PM at Anacortes Printing & Signs!  Please RSVP by Monday\, November 16th to reserve your spot. \n\n\n\nDate: Thursday\, November 19th\, 2026\n\nWhen: 5:30 PM - 7:00 PM\n\nWhere: Anacortes Printing & Signs - 1811 Commercial Ave\, Anacortes\, WA \n\nRegistration Deadline: Monday\, November 16th\, 2026 by 5:00 PM
X-ALT-DESC;FMTTYPE=text/html:Join us for the November Business After Hours on November 19th from 5:30 PM - 7:00 PM at Anacortes Printing &amp\; Signs!&nbsp\;&nbsp\;<span style="background-color: rgb(255\, 255\, 0)\;">Please RSVP by Monday\, November 16th to reserve your spot.</span><strong>&nbsp\;<br />\n<br />\nDate:&nbsp\;</strong>Thursday\, November 19th\, 2026<br />\n<strong>When:&nbsp\;</strong>5:30 PM - 7:00 PM<br />\n<strong>Where:&nbsp\;</strong>Anacortes Printing &amp\; Signs - 1811 Commercial Ave\, Anacortes\, WA&nbsp\;<br />\n<strong>Registration Deadline: </strong>Monday\,&nbsp\;November 16th\, 2026 by 5:00 PM
LOCATION:Anacortes Printing & Signs 1811 Commercial Ave Anacortes\, WA
UID:e.228.23425
SEQUENCE:3
DTSTAMP:20260421T132431Z
URL:http://business.anacortes.org/events/details/2026-november-business-after-hours-anacortes-printing-signs-23425
END:VEVENT

END:VCALENDAR
